BEGIN:VCALENDAR
VERSION:2.0
PRODID:-// - ECPv6.9.0//NONSGML v1.0//EN
CALSCALE:GREGORIAN
METHOD:PUBLISH
X-ORIGINAL-URL:https://www.create.uevora.pt
X-WR-CALDESC:Events for 
REFRESH-INTERVAL;VALUE=DURATION:PT1H
X-Robots-Tag:noindex
X-PUBLISHED-TTL:PT1H
BEGIN:VTIMEZONE
TZID:UTC
BEGIN:STANDARD
TZOFFSETFROM:+0000
TZOFFSETTO:+0000
TZNAME:UTC
DTSTART:20250101T000000
END:STANDARD
END:VTIMEZONE
BEGIN:VEVENT
DTSTART;TZID=UTC:20250402T160000
DTEND;TZID=UTC:20250530T170000
DTSTAMP:20260425T151117
CREATED:20250327T145003Z
LAST-MODIFIED:20250327T145128Z
UID:10895-1743609600-1748624400@www.create.uevora.pt
SUMMARY:Exposição fotográfica "Microplásticos: O Inimigo Oculto"
DESCRIPTION:Os microplásticos (MP) são partículas de plástico com dimensões entre 0\,001 e 5 milímetros\, e constituem um problema ambiental generalizado que se tem vindo a agravar nas últimas décadas. As fotografias expostas foram captadas no âmbito do trabalho de monitorização da unidade curricular de Monitorização do Ambiente\, da licenciatura em Ecologia e Ambiente. A presença de microplásticos no ambiente foi detetada\, contribuindo para uma compreensão aprofundada do desafio ambiental que representa. Esta exposição de fotografias chama a atenção para este problema ambiental\, sem descurar a sua beleza\, mas também com uma vertente pedagógica. \nA exposição de fotografias será inagurada no dia 2 de abril de 2025\, 4ª feira\, pelas 16h na Biblioteca do Colégio Luís António Verney e ficará exposto previsivelmente até 30 de maio de 2025\, 6ª feira\, durante o seguinte horário: 2ª feira-6ª feira: 9h-20h; Sábado: 9h30-12h30. \n 
URL:https://www.create.uevora.pt/index.php/event/exposicao-fotografica-microplasticos-o-inimigo-oculto/
LOCATION:Universdade de Évora\, Colégio Luís A. Verney\, Rua Romão Ramalho\, 59\, Évora\, Portugal
ATTACH;FMTTYPE=image/jpeg:https://www.create.uevora.pt/wp-content/uploads/2025/03/cartaz-microplasticos_divulgacao.jpg
END:VEVENT
END:VCALENDAR