BEGIN:VCALENDAR
VERSION:2.0
PRODID:-// - ECPv6.9.0//NONSGML v1.0//EN
CALSCALE:GREGORIAN
METHOD:PUBLISH
X-ORIGINAL-URL:https://www.create.uevora.pt
X-WR-CALDESC:Events for 
REFRESH-INTERVAL;VALUE=DURATION:PT1H
X-Robots-Tag:noindex
X-PUBLISHED-TTL:PT1H
BEGIN:VTIMEZONE
TZID:UTC
BEGIN:STANDARD
TZOFFSETFROM:+0000
TZOFFSETTO:+0000
TZNAME:UTC
DTSTART:20250101T000000
END:STANDARD
END:VTIMEZONE
BEGIN:VEVENT
DTSTART;TZID=UTC:20250707T100000
DTEND;TZID=UTC:20250711T123000
DTSTAMP:20260423T203217
CREATED:20250527T212822Z
LAST-MODIFIED:20250527T212823Z
UID:10995-1751882400-1752237000@www.create.uevora.pt
SUMMARY:Explorador na Herdade da Mitra - conhecer os sobreiros desde o campo ao laboratório
DESCRIPTION:Esta proposta integrada no programa Júnior Summer School\, cujo público alvo serão alunos\ndo secundário\, tem como objetivo conhecer o sobreiro e a cortiça desde o campo ao\nlaboratório\, através de visitas de campo na Herdade da Mitra para compreender os\npovoamentos florestais e o seu principal produto\, a cortiça\, com vista à sustentabilidade e\nà valorização da região. O conhecimento da teoria à prática\, através de voos com drone e\natividades nos laboratórios para melhor conhecer esta espécie serão os pontos chave do\nprograma. Será uma semana de muita atividade e passeios no campo\, onde ficarão também\na conhecer os arbustos e outras árvores da nossa paisagem.
URL:https://www.create.uevora.pt/index.php/event/explorador-na-herdade-da-mitra-conhecer-os-sobreiros-desde-o-campo-ao-laboratorio/
LOCATION:Herdade da Mitra
ATTACH;FMTTYPE=image/jpeg:https://www.create.uevora.pt/wp-content/uploads/2025/05/post-face-explorador-na-herdade.jpg
END:VEVENT
END:VCALENDAR