BEGIN:VCALENDAR
VERSION:2.0
PRODID:-// - ECPv6.9.0//NONSGML v1.0//EN
CALSCALE:GREGORIAN
METHOD:PUBLISH
X-ORIGINAL-URL:https://www.create.uevora.pt
X-WR-CALDESC:Events for 
REFRESH-INTERVAL;VALUE=DURATION:PT1H
X-Robots-Tag:noindex
X-PUBLISHED-TTL:PT1H
BEGIN:VTIMEZONE
TZID:UTC
BEGIN:STANDARD
TZOFFSETFROM:+0000
TZOFFSETTO:+0000
TZNAME:UTC
DTSTART:20250101T000000
END:STANDARD
END:VTIMEZONE
BEGIN:VEVENT
DTSTART;TZID=UTC:20250312T140000
DTEND;TZID=UTC:20250312T170000
DTSTAMP:20260425T232911
CREATED:20250309T132141Z
LAST-MODIFIED:20250309T162821Z
UID:10781-1741788000-1741798800@www.create.uevora.pt
SUMMARY:Reunião Final do Projeto PyroC.pt
DESCRIPTION:No próximo dia 12 de março de 2025\, terá lugar a Reunião Final de Trabalhos do projeto PyroC.pt (Advanced Wildfire Modelling for Risk Assessment and Pyroconvection Understanding in Portugal). O evento será realizado na sala 205 do Palácio do Vimioso\, Instituto de Investigação e Formação Avançada (IIFA)\, Universidade de Évora\,. \nA reunião reunirá os membros do projeto e contará com apresentações de oradores externos\, proporcionando um espaço para a partilha de conhecimento e a discussão dos resultados obtidos. O principal objetivo do encontro é a apresentação dos trabalhos desenvolvidos no âmbito do projeto\, contribuindo para o avanço da modelação de incêndios florestais\, a avaliação de riscos e a compreensão da piroconvecção. \nA sessão estará aberta ao público a partir das 14h\, na Sala 205 do Palácio do Vimioso. \nCartaz do evento disponível aqui
URL:https://www.create.uevora.pt/index.php/event/reuniao-final-do-projeto-pyroc-pt/
LOCATION:Palácio do Vimioso\, IIFA Universidade de Évora\, Largo Marquês de Marialva\, Évora\, 7002-554
ATTACH;FMTTYPE=image/png:https://www.create.uevora.pt/wp-content/uploads/2025/03/Fires_Model.png
END:VEVENT
BEGIN:VEVENT
DTSTART;TZID=UTC:20250318T090000
DTEND;TZID=UTC:20250322T170000
DTSTAMP:20260425T232911
CREATED:20250312T235828Z
LAST-MODIFIED:20250313T000305Z
UID:10840-1742288400-1742662800@www.create.uevora.pt
SUMMARY:Ações de Promoção da Biodiversidade em Jardins e Espaços Verdes Urbanos
DESCRIPTION:O projeto CANTE: Do Conceito à Abordagem Uma Só Saúde. Perspetivas e Experiências iNTEgradas no Alentejo em Rede para o Mundo num Processo Top-Down está a organizar diversas Ações de Promoção da Biodiversidade em Jardins e Espaços Verdes Urbanos\, que decorrerão de 18 a 22 de março de 2025\, em Moura. \nDestacam-se dois momentos do programa: \n\n21 de março: Visita para Exploração da Biodiversidade Noturna. A atividade é aberta ao público\, gratuita\, mas requer inscrição prévia (https://forms.gle/FwrC79qMyEnRkTiG9). Cartaz em anexo para mais informações.\n22 de março: Apresentação pública do Caderno de Boas Práticas para Beneficiação da Biodiversidade em Espaços Verdes Urbanos\, a decorrer entre as 10 e as 13 horas\, em Moura\, no edifício do Ex-Grémio da Lavoura e no Jardim das Oliveiras\, seguida de um beberete.\n\nOs cartazes referentes ao Programa Geral e da Visita para Exploração da Biodiversidade Noturna podem ser consultados aqui.
URL:https://www.create.uevora.pt/index.php/event/acoes-de-promocao-da-biodiversidade-em-jardins-e-espacos-verdes-urbanos/
ATTACH;FMTTYPE=image/png:https://www.create.uevora.pt/wp-content/uploads/2025/03/logo_cores_institucionais-Angela-Guerra.png
END:VEVENT
BEGIN:VEVENT
DTSTART;TZID=UTC:20250324T090000
DTEND;TZID=UTC:20250326T140000
DTSTAMP:20260425T232911
CREATED:20250303T120458Z
LAST-MODIFIED:20250309T155814Z
UID:10755-1742806800-1742997600@www.create.uevora.pt
SUMMARY:13º Simpósio de Meteorologia e Geofísica da APMG
DESCRIPTION:  \n  \nO 13º Simpósio de Meteorologia e Geofísica da APMG – 23º Encontro Luso-Espanhol de Meteorologia (APMG2025)\, será realizado na Universidade de Trás-os-Montes e Alto Douro (UTAD)\, em Vila Real\, de 24 a 26 de março de 2025\, para mais um encontro de apresentação\, discussão e divulgação dos mais recentes resultados e contributos da investigação nas áreas da Meteorologia e Geofísica. \n  \n 
URL:https://www.create.uevora.pt/index.php/event/13o-simposio-de-meteorologia-e-geofisica-da-apmg/
ATTACH;FMTTYPE=image/png:https://www.create.uevora.pt/wp-content/uploads/2025/03/apmg2025_bg.png
END:VEVENT
END:VCALENDAR