BEGIN:VCALENDAR
VERSION:2.0
PRODID:-// - ECPv6.9.0//NONSGML v1.0//EN
CALSCALE:GREGORIAN
METHOD:PUBLISH
X-ORIGINAL-URL:https://www.create.uevora.pt
X-WR-CALDESC:Events for 
REFRESH-INTERVAL;VALUE=DURATION:PT1H
X-Robots-Tag:noindex
X-PUBLISHED-TTL:PT1H
BEGIN:VTIMEZONE
TZID:UTC
BEGIN:STANDARD
TZOFFSETFROM:+0000
TZOFFSETTO:+0000
TZNAME:UTC
DTSTART:20250101T000000
END:STANDARD
END:VTIMEZONE
BEGIN:VEVENT
DTSTART;TZID=UTC:20250604T093000
DTEND;TZID=UTC:20250605T173000
DTSTAMP:20260424T071056
CREATED:20250528T235524Z
LAST-MODIFIED:20250529T000302Z
UID:11005-1749029400-1749144600@www.create.uevora.pt
SUMMARY:QUO VADIS? As luzes e as sombras da IA
DESCRIPTION:Destacam-se as palestras: \n4 de junho\, 11H 30\nInteligência Artificial: de Onde Vimos e para Onde Vamos?\nCarlos Fiolhais – Universidade de Coimbra \ne \n5 de junho\, 15H 15\nInteligência Artificial: História e Impacto na Sociedade e na Educação\nMário de Figueiredo – Instituto Superior Técnico \n  \n \n 
URL:https://www.create.uevora.pt/index.php/event/quo-vadis-as-luzes-e-as-sombras-da-ia/
LOCATION:Palácio de D. Manuel\, Évora
ATTACH;FMTTYPE=image/gif:https://www.create.uevora.pt/wp-content/uploads/2025/05/ProjHorizCartaz.gif
END:VEVENT
END:VCALENDAR