BEGIN:VCALENDAR
VERSION:2.0
PRODID:-// - ECPv6.9.0//NONSGML v1.0//EN
CALSCALE:GREGORIAN
METHOD:PUBLISH
X-ORIGINAL-URL:https://www.create.uevora.pt
X-WR-CALDESC:Events for 
REFRESH-INTERVAL;VALUE=DURATION:PT1H
X-Robots-Tag:noindex
X-PUBLISHED-TTL:PT1H
BEGIN:VTIMEZONE
TZID:UTC
BEGIN:STANDARD
TZOFFSETFROM:+0000
TZOFFSETTO:+0000
TZNAME:UTC
DTSTART:20250101T000000
END:STANDARD
END:VTIMEZONE
BEGIN:VEVENT
DTSTART;TZID=UTC:20251021T123000
DTEND;TZID=UTC:20251023T170000
DTSTAMP:20260422T040501
CREATED:20250303T115947Z
LAST-MODIFIED:20251002T140915Z
UID:10753-1761049800-1761238800@www.create.uevora.pt
SUMMARY:ACTRIS Week
DESCRIPTION:ACTRIS is excited to announce that ACTRIS Week 2025 will take place from October 21–23\, 2025\, in Évora\, Portugal. \nThe aim of ACTRIS Week 2025 is to bring the ACTRIS Community together\, to update the community about the most recent and ongoing ACTRIS progress and challenges\, and to provide a platform for various ACTRIS and ACTRIS-adjacent groups and communities to get together. \nAs ACTRIS continues to grow\, ACTRIS Week remains a key opportunity for networking\, knowledge exchange\, and shaping the future of our community. The event will feature plenary sessions\, interactive discussions\, and updates on ACTRIS services\, operations\, and scientific advancements. \nPreliminary agenda here \nTuesday October 21st – general ACTRIS session and CARGO-ACT community session (start at 13:30) \nWednesday October 22nd – Central Facility and other workshops. The following workshops are to take place: \n\nASCC (atmospheric simulation chamber committee) workshop\nCAIS-ECAC (aerosol in situ) workshop\nCIS (cloud in situ) workshop\nCCRES (cloud remote sensing) workshop\nCiGas (trace gases in situ) workshop\nCARS-ARES (aerosol remote sensing) workshop\n\nThursday October 23rd – National Facility Technical & Scientific Forum \n\n\n\n\nSocial Activities\nA guided city tour of Évora will take place on Tuesday October 21st after the main programe. The cost of the tour is graciously covered by the University of Évora. \nConference dinner will take place on Wednesday October 22nd at 19:30 at the Hotel M’Ar de Ar Muralhas (Tv. da Palmeira 4). The restaurant is a 15-min walk from the University of Évora premises.\n\n\nTransport\nÉvora is located in the region of Alentejo\, in the south of Portugal\, about 140km east of Lisbon. \nLisbon-Portela Airport (LIS) is the nearest airport and the largest in the country with direct flights to all parts of Europe and beyond. FlixBus provides a direct connection from Lisbon Airport to Evora a couple of times a day. Alternativey\, Lisbon Oriente train station has multiple daily train and bus departures to Evora. Lisbon Oriente train station can be easily accessed from the airport by metro.
URL:https://www.create.uevora.pt/index.php/event/actris-week/
LOCATION:Universidade de Évora – Colégio Luís Antón io Verny (CLAV)\, Colégio Luis António Verney (CLAV)\, Évora\, Portugal
ATTACH;FMTTYPE=image/png:https://www.create.uevora.pt/wp-content/uploads/2025/03/Horizontal_20_2816_29.png
END:VEVENT
BEGIN:VEVENT
DTSTART;VALUE=DATE:20251022
DTEND;VALUE=DATE:20251023
DTSTAMP:20260422T040501
CREATED:20251021T184754Z
LAST-MODIFIED:20251104T004801Z
UID:11278-1761091200-1761177599@www.create.uevora.pt
SUMMARY:Forest - Climate Nexus - Lectures
DESCRIPTION:MEETING Forest – Climate Nexus between \nCREATE\, School of Science and Technology\, University of Évora and\nFaculty of Forestry\, Technical University in Zvolen\, Slovak \n_______________________________________________\n\n22nd October 2025\, 9:30 h\nRoom 242 – Colégio do Espirito Santo \nPROGRAM \nLectures \nStarting point\, concept\, structure and algorithms of SIBYLA Lex Eterna process-based model for forestry gamification\nFabrika Marek\, Faculty of Forestry\, Technical University in Zvolen\, Slovakia \nThe lecture deals with digital twins\, growth simulators\, and virtual reality in forestry gamification\, education\, and research. It describes the current state of the art in the form of a) the semi-empirical SIBYLA Triquetra model\, b) a virtual forest in the Unity 3D Game Engine environment. It describes data sources for identical and non-identical digital forest twins. The main part of the lecture is devoted to the SIBYLA Lex Eterna process-based model\, which is being developed as a new generation of tool and software. The lecture is supplemented with practical demonstrations of the tools. \n\n\n\n\n\n\nNew teaching and research platform – web application with unique on-line transfer of meteorological data as a source of data to climate process-based model of SIBYLA\nKatarína Střelcová\, Faculty of Forestry\, Technical University in Zvolen\, Slovakia \nMeteorological and climatological data are key inputs for forest growth models. Climate change\, accompanied by extreme weather events\, has considerably changed the climate conditions and optimal ecological (particularly climatic) ranges for species. As a consequence\, forest ecosystems are increasingly threatened by climate-change-fuelled cycles of drought and/or heat\, frost hits\, fires\, or floods\, leading to the attenuation of growth processes\, disruption of phenological cycles\, decreasing resistance\, natural disturbances\, or dieback. Climate warming is reducing forest productivity in drought-prone areas because rising temperatures and longer periods of water shortage lead to negative tree growth trends and predispose some species to dieback. Water stress is the most frequent and threatening ecological limit to tree growth. Decreasing water availability during heat and drought periods\, which might damage the trees and weaken trees physiologically and reduce forest productivity. Aim of the lecture is to present our research and teaching platform www.forestweather.sk as a source of data to growth models in forestry and forest management planning \n\n\n\n\nThink tank \n\n\n\n\nThe importance of biotic and abiotic risks assessment and modelling in the development of frameworks for forest growth models in Portugal\nNuno de Almeida Ribeiro \nModelling the effect of water and nutrients on cork oak radial growth\nConstança Camilo Alves: \nPermanent plots and cork from Quercus suber – a cellular approach\nAna Poeiras: \nStudy of carbon sequestration dynamics in Quercus sampling plots with different biophysical features\nMariana Rodrigues: \n3D Aerial imaging\nJoão Ribeiro:
URL:https://www.create.uevora.pt/index.php/event/forest-climate-nexus-lectures/
LOCATION:Universidade de Évora\, Colégio Luís A. Verney\, Rua Romão Ramalho\, 59\, Évora\, Portugal
END:VEVENT
BEGIN:VEVENT
DTSTART;VALUE=DATE:20251027
DTEND;VALUE=DATE:20251101
DTSTAMP:20260422T040501
CREATED:20251104T004526Z
LAST-MODIFIED:20251104T004731Z
UID:11297-1761523200-1761955199@www.create.uevora.pt
SUMMARY:Applied Machine Learning: from fundamentals to sustainable applications
DESCRIPTION:workshop BIP (Blended Intensive Program): \nAPPLIED MACHINE LEARNING: FROM FUNDAMENTALS TO SUSTAINABLE APPLICATIONS
URL:https://www.create.uevora.pt/index.php/event/applied-machine-learning-from-fundamentals-to-sustainable-applications/
LOCATION:Universidade de Évora\, Colégio Luís A. Verney\, Rua Romão Ramalho\, 59\, Évora\, Portugal
ATTACH;FMTTYPE=image/jpeg:https://www.create.uevora.pt/wp-content/uploads/2025/11/WhatsApp-Image-2025-10-31-at-7.24.16-PM1.jpeg
END:VEVENT
BEGIN:VEVENT
DTSTART;VALUE=DATE:20251029
DTEND;VALUE=DATE:20251030
DTSTAMP:20260422T040501
CREATED:20251027T143027Z
LAST-MODIFIED:20251104T004643Z
UID:11286-1761696000-1761782399@www.create.uevora.pt
SUMMARY:Study of aerosol variability in the Indian Ocean during the biomass burning season in southern Africa
DESCRIPTION:Seminário CREATE e Programa Doutoral em Ciências da Terra e do Espaço\nMarion Ranaivombola\n(New CREATE and EUBURN-RISK researcher)Study of aerosol variability in the Indian Ocean during the biomass burning season in southern AfricaQuarta-feira\, 29 de outubro às 15H\, sala 138 do CLAV\nSummary \nThis work focuses on the evolution and transport of pollutants from biomass burning in the region of Southern Africa and the South-West of Indian Ocean using ground-based and satellite observations and numericals tools. To address this\, the BiBAC (Biomass Burning Aerosol Campaign) campaign was implemented as part of the IRP-ARSAIO (International Research Project – Atmospheric Research in Southern Africa and Indian Ocean) project\, which conducted an intensive observation phase between August and October 2022. During the IOP\, two transport mechanisms were identified: a case of river of smoke during event 1 and air mass recirculation with the formation of col points during event 2. These transport patterns had already been observed during the SAFARI-2000 campaign. However\, the smoke river observed differs from previous cases due to specific synoptic conditions and the absence of a “cut-off low”. This work is the first study to document the transport mechanisms of aerosols and CO to the southwestern Indian Ocean basin. FLEXPART\, coupled with fire and anthropogenic emission inventories\, was used to identify the origin of air masses during the IOP and to quantify the contribution of African and South American sources to the CO balance. The results confirmed the regional and intercontinental transport of air masses and highlighted the predominance of African sources\, while the contributions of South American fires were more variable and could be greater than or equal to those from southern Africa.
URL:https://www.create.uevora.pt/index.php/event/study-of-aerosol-variability-in-the-indian-ocean-during-the-biomass-burning-season-in-southern-africa/
LOCATION:Universidade de Évora\, Colégio Luís A. Verney\, Rua Romão Ramalho\, 59\, Évora\, Portugal
ATTACH;FMTTYPE=image/png:https://www.create.uevora.pt/wp-content/uploads/2025/10/image-1.png
END:VEVENT
END:VCALENDAR